BEGIN:VCALENDAR
VERSION:2.0
PRODID:-//Weingut Kröber - ECPv6.15.18//NONSGML v1.0//EN
CALSCALE:GREGORIAN
METHOD:PUBLISH
X-ORIGINAL-URL:https://weingut-kroeber.de
X-WR-CALDESC:Veranstaltungen für Weingut Kröber
REFRESH-INTERVAL;VALUE=DURATION:PT1H
X-Robots-Tag:noindex
X-PUBLISHED-TTL:PT1H
BEGIN:VTIMEZONE
TZID:UTC
BEGIN:STANDARD
TZOFFSETFROM:+0000
TZOFFSETTO:+0000
TZNAME:UTC
DTSTART:20210101T000000
END:STANDARD
END:VTIMEZONE
BEGIN:VEVENT
DTSTART;VALUE=DATE:20221118
DTEND;VALUE=DATE:20221119
DTSTAMP:20260425T183655
CREATED:20220809T051615Z
LAST-MODIFIED:20220814T062154Z
UID:1494-1668729600-1668815999@weingut-kroeber.de
SUMMARY:Gehöschenes beim Feinbrand
DESCRIPTION:In gemütlicher\, Stimmungsvoller Atmosphäre erläutern wir Ihnen den Vorgang der Destillation. Während im Brennkessel Hochprozentiges herangluckert\, berichtet Martina Kröber aus ihren Recherchen zu Gastronomie und Wirtschaften in Winningen\, zu denen auch die Brenner gehörten. Dazu probieren Sie Raritäten aus dem Keller und kleine Delikatessen. Anschließend kehren wir gemeinsam im Restaurant Brunnenklause ein\, wo uns ein geschmackvolles 4-Gang-Menü erwartet. \nPreis pro Person: 90 €
URL:https://weingut-kroeber.de/event/gehoeschenes-beim-feinbrand/
LOCATION:Weingut Kröber\, Hahnenstraße 14\, Winningen\, Rheinland-Pfalz\, 56333\, Deutschland
ATTACH;FMTTYPE=image/jpeg:https://weingut-kroeber.de/wp-content/uploads/2022/08/Gehoeschenis_Weingut_Winningen.jpg
ORGANIZER;CN="Weingut R%C3%BCdiger Kr%C3%B6ber":MAILTO:info@weingut-kroeber.de
END:VEVENT
END:VCALENDAR